BEGIN:VCALENDAR
VERSION:2.0
PRODID:-//Tukios.com/
BEGIN:VEVENT
UID:5be42e8f-0c15-433f-ae8f-0d34dba27092@www.grcremation.com
DTSTAMP:20260421T163410Z
DTSTART:20260423T183000Z
DTEND:20260423T193000Z
SUMMARY:Memorial Service
DESCRIPTION:
URL:https://www.grcremation.com/obituaries/susan-mcdonald
LOCATION:Discover Life Church 711 Kendon Dr  Lansing MI 48910
GEO:42.6863507;-84.5422203
END:VEVENT
END:VCALENDAR