BEGIN:VCALENDAR
VERSION:2.0
PRODID:-//Tukios.com/
BEGIN:VEVENT
UID:9829f0cb-e876-4428-b917-9cc4b9ad4676@www.grcremation.com
DTSTAMP:20260421T153958Z
DTSTART:20260501T140000Z
DTEND:20260501T150000Z
SUMMARY:Visitation
DESCRIPTION:
URL:https://www.grcremation.com/obituaries/marilyn-ogden
LOCATION:St. Mary’s Church 423 First Street Northwest  Grand Rapids MI 
	49504
GEO:42.9719114;-85.6798004
END:VEVENT
END:VCALENDAR