BEGIN:VCALENDAR
VERSION:2.0
PRODID:-//Tukios.com/
BEGIN:VEVENT
UID:f7e46da6-7d22-4ac1-9a1b-94d1a4494067@www.grcremation.com
DTSTAMP:20260421T154646Z
DTSTART:20260501T150000Z
DTEND:20260501T160000Z
SUMMARY:Celebration of Life
DESCRIPTION:
URL:https://www.grcremation.com/obituaries/marilyn-ogden
LOCATION:St. Mary’s Church 423 First Street Northwest  Grand Rapids MI 
	49504
GEO:42.9719114;-85.6798004
END:VEVENT
END:VCALENDAR