BEGIN:VCALENDAR
VERSION:2.0
PRODID:-//Tukios.com/
BEGIN:VEVENT
UID:f4a58033-4cf4-4a58-92f4-2a122f29e0bc@www.grcremation.com
DTSTAMP:20260422T155456Z
DTSTART:20260430T170000Z
DTEND:20260430T180000Z
SUMMARY:Other
DESCRIPTION:
URL:https://www.grcremation.com/obituaries/kevin-hershey-2026
LOCATION:Holton United Methodist Church 9530 Holton-Duck Lake Road  
	Holton MI 49425
GEO:43.4268472;-86.0777263
END:VEVENT
END:VCALENDAR