BEGIN:VCALENDAR
VERSION:2.0
PRODID:-//Tukios.com/
BEGIN:VEVENT
UID:57758d26-e34a-4209-80b5-c996968472c1@www.grcremation.com
DTSTAMP:20260422T155334Z
DTSTART:20260430T150000Z
DTEND:20260430T160000Z
SUMMARY:Funeral Service
DESCRIPTION:
URL:https://www.grcremation.com/obituaries/kevin-hershey-2026
LOCATION:Living Water Bible Church 460 Wood Street  Muskegon MI 49442
GEO:43.2440853;-86.233172
END:VEVENT
END:VCALENDAR